BEGIN:VCALENDAR
VERSION:2.0
PRODID:-//Beckmann-Fleige Hydraulik GmbH &amp; Co. KG - ECPv6.14.2//NONSGML v1.0//EN
CALSCALE:GREGORIAN
METHOD:PUBLISH
X-WR-CALNAME:Beckmann-Fleige Hydraulik GmbH &amp; Co. KG
X-ORIGINAL-URL:https://www.bf-hydraulik.com
X-WR-CALDESC:Veranstaltungen für Beckmann-Fleige Hydraulik GmbH &amp; Co. KG
REFRESH-INTERVAL;VALUE=DURATION:PT1H
X-Robots-Tag:noindex
X-PUBLISHED-TTL:PT1H
BEGIN:VTIMEZONE
TZID:Europe/Berlin
BEGIN:DAYLIGHT
TZOFFSETFROM:+0100
TZOFFSETTO:+0200
TZNAME:CEST
DTSTART:20260329T010000
END:DAYLIGHT
BEGIN:STANDARD
TZOFFSETFROM:+0200
TZOFFSETTO:+0100
TZNAME:CET
DTSTART:20261025T010000
END:STANDARD
END:VTIMEZONE
BEGIN:VEVENT
DTSTART;VALUE=DATE:20261102
DTEND;VALUE=DATE:20261104
DTSTAMP:20260420T210334
CREATED:20251113T090024Z
LAST-MODIFIED:20251113T090024Z
UID:2286-1793577600-1793750399@www.bf-hydraulik.com
SUMMARY:Hydraulikschulung – Aufbaukurs Stationärhydraulik
DESCRIPTION:Um komplexere Anlagen effizient betreiben zu können\, müssen vielfältige Aspekte im Auge behalten werden. Insbesondere wenn Hydraulik und Elektrik als Einheit fungieren. \nDie Lernziele in diesem Aufbaukurs Stationärhydraulik: \n\n\nStetigventile\, Regelventile für stationäre und mobile Anwendungen\nEinführung in die Stetigventiltechnik\nAuslegung eines Hydrauliksystems bezüglich Geräteauswahl\, Einsatz und Verknüpfung der Steuerelemente\nAufbau und Einsatz von weiteren Hydraulikkomponenten (Ventile\, Speicher\, Pumpen)\nSteuerungen mit Stetigventilen\nHinweise zu Störquellen und Prüfmöglichkeiten\nKenntnisse der ISO-Symbole bis zur Fähigkeit komplexere Schaltpläne zu lesen und Fehler zu erkennen\npraktische Übungen mit Montage und Demontage / Erfahrungsaustausch\n\n\nZielgruppe:\nKonstrukteure\, Ingenieure\, Meister\, Techniker\, Facharbeiter\, Fachlehrkräfte\, Mitarbeiter aus Montage\, Reparatur und Instandhaltung und Hydraulik-Interessierte \nKenntnisse der Grundlagenschulung sind empfehlenswert! \nSchulungsdauer: 2 Tage\nZeiten:                    1. Tag 09:00 – 17:00 Uhr / 2. Tag 08:00 – 16:00 Uhr \nGebühr je Teilnehmer:\n1.460\,00 € zzgl. MwSt.\nInklusive Unterlagen und Verpflegung \nHier können Sie sich zur Schulung anmelden:
URL:https://www.bf-hydraulik.com/hydraulic-training/hydraulikschulung-aufbaukurs-stationaerhydraulik/
LOCATION:Beckmann-Fleige Hydraulik GmbH & Co. KG\, Niggenkamp 4\, Werne\, NRW\, 59368\, Germany
CATEGORIES:Aufbaukurs Stationärhydraulik
END:VEVENT
END:VCALENDAR