BEGIN:VCALENDAR
VERSION:2.0
PRODID:-//Beckmann-Fleige Hydraulik GmbH &amp; Co. KG - ECPv6.14.2//NONSGML v1.0//EN
CALSCALE:GREGORIAN
METHOD:PUBLISH
X-WR-CALNAME:Beckmann-Fleige Hydraulik GmbH &amp; Co. KG
X-ORIGINAL-URL:https://www.bf-hydraulik.com
X-WR-CALDESC:Veranstaltungen für Beckmann-Fleige Hydraulik GmbH &amp; Co. KG
REFRESH-INTERVAL;VALUE=DURATION:PT1H
X-Robots-Tag:noindex
X-PUBLISHED-TTL:PT1H
BEGIN:VTIMEZONE
TZID:Europe/Berlin
BEGIN:DAYLIGHT
TZOFFSETFROM:+0100
TZOFFSETTO:+0200
TZNAME:CEST
DTSTART:20260329T010000
END:DAYLIGHT
BEGIN:STANDARD
TZOFFSETFROM:+0200
TZOFFSETTO:+0100
TZNAME:CET
DTSTART:20261025T010000
END:STANDARD
END:VTIMEZONE
BEGIN:VEVENT
DTSTART;VALUE=DATE:20261026
DTEND;VALUE=DATE:20261028
DTSTAMP:20260422T112659
CREATED:20251113T084838Z
LAST-MODIFIED:20251113T084838Z
UID:2278-1792972800-1793145599@www.bf-hydraulik.com
SUMMARY:Hydraulikschulung für Auszubildende
DESCRIPTION:Sie werden vertraut gemacht mit Aufbau\, Funktion und Schaltzeichen der wichtigsten Hydraulikkomponenten. Darüber hinaus lernen Sie einfache Schaltpläne zu lesen\, bauen einfache hydraulische Schaltungen am Praxis-Übungsstand auf und vertiefen so die theoretischen Kenntnisse. \nDie Lernziele in dieser Schulung: \n\n\nPhysikalische Grundlagen der Hydraulik erlernen\nDruckflüssigkeiten\, Behälter\, Filter\, Hydraulikpumpen: das Zusammenspiel der einzelnen Komponenten\nSchlauchleitungen: Erlernen der richtigen Montage und Erkennen von Verschleiß\nDruckbegrenzungsventile direktgesteuert: möglicher Einbau und Wirkungsweise\nWegeventile: Kombination und Wirkungsweise erkennen\nSperr- und Stromventile: Einbau und Anwendung\nSchaltzeichen lesen und verstehen lernen\nGrundlagen der Load Sensing Hydraulik erlernen\nÜbungen in der Theorie und Praxis\n\n\nVoraussetzungen:\nKeine besonderen Voraussetzungen erforderlich \nZielgruppe:\nAuszubildende zum Land- und Baumaschinenmechaniker und Auszubildende zum Instandhaltungsmechaniker \nSchulungsdauer: 2 Tage\nZeiten:                    1. Tag 09:00 – 17:00 Uhr / 2. Tag 08:00 – 16:00 Uhr \nGebühr je Teilnehmer:\n480\,00 € zzgl. MwSt.\nInklusive Unterlagen und Verpflegung \nHier können Sie sich zur Schulung anmelden:
URL:https://www.bf-hydraulik.com/hydraulic-training/hydraulikschulung-fuer-auszubildende/
LOCATION:Beckmann-Fleige Hydraulik GmbH & Co. KG\, Niggenkamp 4\, Werne\, NRW\, 59368\, Germany
CATEGORIES:Auszubildende
END:VEVENT
END:VCALENDAR