BEGIN:VCALENDAR
VERSION:2.0
PRODID:-//Beckmann-Fleige Hydraulik GmbH &amp; Co. KG - ECPv6.14.2//NONSGML v1.0//EN
CALSCALE:GREGORIAN
METHOD:PUBLISH
X-WR-CALNAME:Beckmann-Fleige Hydraulik GmbH &amp; Co. KG
X-ORIGINAL-URL:https://www.bf-hydraulik.com/en/
X-WR-CALDESC:Events for Beckmann-Fleige Hydraulik GmbH &amp; Co. KG
REFRESH-INTERVAL;VALUE=DURATION:PT1H
X-Robots-Tag:noindex
X-PUBLISHED-TTL:PT1H
BEGIN:VTIMEZONE
TZID:Europe/Berlin
BEGIN:DAYLIGHT
TZOFFSETFROM:+0100
TZOFFSETTO:+0200
TZNAME:CEST
DTSTART:20260329T010000
END:DAYLIGHT
BEGIN:STANDARD
TZOFFSETFROM:+0200
TZOFFSETTO:+0100
TZNAME:CET
DTSTART:20261025T010000
END:STANDARD
END:VTIMEZONE
BEGIN:VEVENT
DTSTART;VALUE=DATE:20261005
DTEND;VALUE=DATE:20261006
DTSTAMP:20260420T020038
CREATED:20251126T123002Z
LAST-MODIFIED:20251126T123002Z
UID:2672-1791158400-1791244799@www.bf-hydraulik.com
SUMMARY:Sealing Training
DESCRIPTION:Sealing technology with explanations of materials\, designations\, and their specific characteristics. \nThe learning objectives of the sealing training:\n\n\nClassification of seals\nMaterial selection\nApproaches to solving problems\nTime optimisation in problem solving\nQuick identification of suitable seals\nRelationship between the seal and the installation space\nDesign of installation spaces\nInstallation options and aids\n\n\nTraining duration: 1 day\nTimes: 09:00 – 17:00 \nFee per participant:\n€580.00 plus VAT.\nIncluding documentation and catering  \nYou can register for the training here:
URL:https://www.bf-hydraulik.com/en/hydraulic-training/sealing-training/
LOCATION:Beckmann-Fleige Hydraulik GmbH & Co. KG\, Niggenkamp 4\, Werne\, North Rhine-Westphalia\, 59368\, Germany
CATEGORIES:Sealing Training
END:VEVENT
BEGIN:VEVENT
DTSTART;VALUE=DATE:20261006
DTEND;VALUE=DATE:20261009
DTSTAMP:20260420T020038
CREATED:20251113T085848Z
LAST-MODIFIED:20251113T085848Z
UID:2680-1791244800-1791503999@www.bf-hydraulik.com
SUMMARY:Hydraulics Training – Fundamentals (Basic Knowledge)
DESCRIPTION:If you would like a comprehensive overview or want to refresh your knowledge\, you are in the right place. \nContents: \n\nUnderstanding the physical relationships.\nDesign and function of key hydraulic components (pressure\, flow and directional control valves)\nFunctional design of pumps\, motors and cylinders\nApplications of hydraulic fluids\nKnowledge of ISO symbols up to the ability to read simple circuit diagrams\nPractical exercises / exchange of experience\n\nTarget group:\nDesign engineers\, engineers\, foremen\, technicians\, skilled workers\, vocational teachers\, employees from assembly\, repair and maintenance\, and those interested in hydraulics \nTraining duration: 3 days\nTimes: Day 1 09:00–17:00 / Days 2 + 3 08:00–16:00   \nFee per participant:\n€1\,560.00 plus VAT (special offer price)\nIncludes training materials and catering  \nYou can register for the training here:
URL:https://www.bf-hydraulik.com/en/hydraulic-training/hydraulics-training-fundamentals-basic-knowledge-2/
LOCATION:Beckmann-Fleige Hydraulik GmbH & Co. KG\, Niggenkamp 4\, Werne\, North Rhine-Westphalia\, 59368\, Germany
CATEGORIES:Fundamentals (Basic Knowledge)
END:VEVENT
BEGIN:VEVENT
DTSTART;VALUE=DATE:20261014
DTEND;VALUE=DATE:20261016
DTSTAMP:20260420T020039
CREATED:20251113T085106Z
LAST-MODIFIED:20251113T085106Z
UID:2585-1791936000-1792108799@www.bf-hydraulik.com
SUMMARY:Qualified Person in accordance with the German Industrial Safety Ordinance (BetrSichV) and DGUV Rule 113-020 + practical day
DESCRIPTION:Hydraulic hose assemblies and hydraulic fluids – rules for safe use \nBenefits of the training: Compliance with legal requirements when handling hydraulic hose assemblies and hydraulic fluids. Handling the most important standards\, guidelines and requirements of the employers’ liability insurance associations. Early detection of faults\, avoiding consequential damage and machine downtime. Possibility of being appointed as a qualified person by the employer.    \nPotential participants: Persons who\, within the meaning of the BetrSichV and DGUV Rule 113-020\, are to work as a qualified person for the inspection of hydraulic hose assemblies. \nObjectives include preventive maintenance\, regular inspections\, accident prevention during inspections\, and qualification to identify and rectify faults. \nContents of the hydraulics training “Qualified Person” in accordance with BetrSichV and DGUV Rule 113-020: \n\n\nBasic knowledge and the significance of the relevant regulations: BetrSichV\, DIN EN ISO 4413\, DIN 20066\, DGUV Rule 113-020\nHose selection\, storage and service life\, ideal storage conditions\nSelection criteria for fittings\, assembly of a hose assembly\nLabelling requirement\, labelling of hoses and hose assemblies\nAssembly procedures\nSystem contamination\, possible causes and effects\nCorrect routing of a hose assembly\nPreparing the inspection documentation in accordance with BetrSichV\, TRBS and DGUV Rule 113-020\n\n\nSeminar completion:\n“Qualified Person in accordance with BetrSichV and DGUV Rule 113-020”.\nAfter successfully passing the test\, the participant may be appointed by their employer as a qualified person in accordance with DGUV Rule 113-020. \nThe additional practical day is intended to deepen the knowledge acquired and implement it directly in practical exercises. \nTarget group:\nMaintenance personnel\, occupational safety specialists\, safety engineers\, fitters\, hydraulic service providers and planners\, as well as internal and field sales staff with a direct connection to the topic. \nTraining duration: 2 days\nTimes: Day 1 09:00–17:00 / Day 2 08:00–16:00  \nFee per participant:\n€980.00 plus VAT\nIncluding documentation and catering  \nYou can register for the training here:
URL:https://www.bf-hydraulik.com/en/hydraulic-training/qualified-person-in-accordance-with-the-german-industrial-safety-ordinance-betrsichv-and-dguv-rule-113-020-practical-day/
LOCATION:Beckmann-Fleige Hydraulik GmbH & Co. KG\, Niggenkamp 4\, Werne\, North Rhine-Westphalia\, 59368\, Germany
CATEGORIES:Qualified Person in accordance with the German Industrial Safety Ordinance (BetrSichV) and DGUV Rule 113-020 + practical day
END:VEVENT
BEGIN:VEVENT
DTSTART;VALUE=DATE:20261026
DTEND;VALUE=DATE:20261028
DTSTAMP:20260420T020039
CREATED:20251113T084838Z
LAST-MODIFIED:20251113T084838Z
UID:2671-1792972800-1793145599@www.bf-hydraulik.com
SUMMARY:Hydraulics training for apprentices
DESCRIPTION:You will become familiar with the design\, function and circuit symbols of the most important hydraulic components. In addition\, you will learn to read simple circuit diagrams\, set up simple hydraulic circuits on the practical training rig\, and thereby deepen your theoretical knowledge.  \nThe learning objectives of this training course: \n\n\nLearn the physical fundamentals of hydraulics\nPressure fluids\, reservoirs\, filters\, hydraulic pumps: how the individual components interact\nHose assemblies: learning correct installation and identifying wear\nDirect-acting pressure relief valves: possible installation and mode of operation\nDirectional control valves: identify combinations and mode of operation\nCheck and flow control valves: installation and application\nLearn to read and understand circuit symbols\nLearn the fundamentals of load-sensing hydraulics\nExercises in theory and practice\n\n\nPrerequisites:\nNo special prerequisites required \nTarget group:\nApprentices training as agricultural and construction machinery mechanics and apprentices training as maintenance mechanics \nTraining duration: 2 days\nTimes: Day 1 09:00 – 17:00 / Day 2 08:00 – 16:00  \nFee per participant:\n€480.00 plus VAT\nIncluding materials and catering  \nYou can register for the training course here:
URL:https://www.bf-hydraulik.com/en/hydraulic-training/hydraulics-training-for-apprentices/
LOCATION:Beckmann-Fleige Hydraulik GmbH & Co. KG\, Niggenkamp 4\, Werne\, North Rhine-Westphalia\, 59368\, Germany
CATEGORIES:Apprentices
END:VEVENT
END:VCALENDAR