BEGIN:VCALENDAR
VERSION:2.0
PRODID:-//Beckmann-Fleige Hydraulik GmbH &amp; Co. KG - ECPv6.14.2//NONSGML v1.0//EN
CALSCALE:GREGORIAN
METHOD:PUBLISH
X-ORIGINAL-URL:https://www.bf-hydraulik.com/en/
X-WR-CALDESC:Events for Beckmann-Fleige Hydraulik GmbH &amp; Co. KG
REFRESH-INTERVAL;VALUE=DURATION:PT1H
X-Robots-Tag:noindex
X-PUBLISHED-TTL:PT1H
BEGIN:VTIMEZONE
TZID:Europe/Berlin
BEGIN:DAYLIGHT
TZOFFSETFROM:+0100
TZOFFSETTO:+0200
TZNAME:CEST
DTSTART:20260329T010000
END:DAYLIGHT
BEGIN:STANDARD
TZOFFSETFROM:+0200
TZOFFSETTO:+0100
TZNAME:CET
DTSTART:20261025T010000
END:STANDARD
END:VTIMEZONE
BEGIN:VEVENT
DTSTART;VALUE=DATE:20260922
DTEND;VALUE=DATE:20260924
DTSTAMP:20260420T002005
CREATED:20240313T144042Z
LAST-MODIFIED:20240313T144042Z
UID:2679-1790035200-1790207999@www.bf-hydraulik.com
SUMMARY:Hydraulic Training: Piston Pumps / Variable Displacement Units
DESCRIPTION:A piston pump converts mechanical energy into hydraulic energy. These are used in both industrial applications and mobile work machines. Constant or variable delivery volumes are presented here through various control configurations.   \nThe learning objectives in this training: \n\n\nDesign and function of fixed and variable displacement units\nApplication possibilities and important adjustment devices\nFundamentals and further development of adjustment devices\nDisassembly\, assembly\, testing\, and adjustment of axial piston units\n\n\nPrior participation in the “Basic and Advanced Course” is helpful and recommended by us. \nTarget audience:\nDesign engineers\, engineers\, master craftsmen\, technicians\, skilled workers\, technical instructors\, employees from assembly\, repair and maintenance\, and those interested in hydraulics. \nTraining duration: 2 days\nTimes: Day 1: 9:00 AM – 5:00 PM / Day 2: 8:00 AM – 4:00 PM  \nFee per participant:\n€1\,460.00 plus VAT\nIncluding materials and catering  \nYou can register for the training here:
URL:https://www.bf-hydraulik.com/en/hydraulic-training/hydraulic-training-piston-pumps-variable-displacement-units/
LOCATION:Beckmann-Fleige Hydraulik GmbH & Co. KG\, Niggenkamp 4\, Werne\, North Rhine-Westphalia\, 59368\, Germany
CATEGORIES:Piston Pumps / Variable Displacement Units
END:VEVENT
BEGIN:VEVENT
DTSTART;VALUE=DATE:20260929
DTEND;VALUE=DATE:20261001
DTSTAMP:20260420T002005
CREATED:20251113T065504Z
LAST-MODIFIED:20251113T065504Z
UID:2673-1790640000-1790812799@www.bf-hydraulik.com
SUMMARY:Qualified person for accumulator inspection and maintenance
DESCRIPTION:Qualified person for accumulator inspection and maintenance: \nLearning content: \n\n\nRelevant standards such as the German Ordinance on Industrial Safety and Health (BetrSichV) and the Pressure Equipment Directive\nBecome familiar with accumulator designs and how they work\nFundamentals of calculating hydraulic accumulators\nAnalysing operating conditions\nDiscuss damage to accumulators; outline measures to prevent damage\nOccupational safety during inspection\nGuidance on preparing a safety assessment (risk assessment)\nPractical exercises on the training units\nWritten examination\n\n\nPrerequisite:\ncompleted technical vocational training and prior participation in the “Hydraulics Basic Training”! \nTarget group:\nMaster craftsmen\, technicians\, maintenance personnel\, occupational safety specialists\, safety officers\, skilled workers with qualifications\, fitters \nTraining duration: 2 days\nTimes: Day 1 09:00–17:00 / Day 2 08:00–16:00  \nFee per participant:\n€1\,460.00 plus VAT.\nIncluding documentation and catering  \nYou can register for the training here:
URL:https://www.bf-hydraulik.com/en/hydraulic-training/qualified-person-for-accumulator-inspection-and-maintenance/
LOCATION:North Rhine-Westphalia
CATEGORIES:Qualified person for accumulator inspection and maintenance
END:VEVENT
END:VCALENDAR