BEGIN:VCALENDAR
VERSION:2.0
PRODID:-//Beckmann-Fleige Hydraulik GmbH &amp; Co. KG - ECPv6.14.2//NONSGML v1.0//EN
CALSCALE:GREGORIAN
METHOD:PUBLISH
X-WR-CALNAME:Beckmann-Fleige Hydraulik GmbH &amp; Co. KG
X-ORIGINAL-URL:https://www.bf-hydraulik.com/en/
X-WR-CALDESC:Events for Beckmann-Fleige Hydraulik GmbH &amp; Co. KG
REFRESH-INTERVAL;VALUE=DURATION:PT1H
X-Robots-Tag:noindex
X-PUBLISHED-TTL:PT1H
BEGIN:VTIMEZONE
TZID:Europe/Berlin
BEGIN:DAYLIGHT
TZOFFSETFROM:+0100
TZOFFSETTO:+0200
TZNAME:CEST
DTSTART:20260329T010000
END:DAYLIGHT
BEGIN:STANDARD
TZOFFSETFROM:+0200
TZOFFSETTO:+0100
TZNAME:CET
DTSTART:20261025T010000
END:STANDARD
END:VTIMEZONE
BEGIN:VEVENT
DTSTART;VALUE=DATE:20260706
DTEND;VALUE=DATE:20260709
DTSTAMP:20260419T205828
CREATED:20251113T085604Z
LAST-MODIFIED:20251113T085604Z
UID:2573-1783296000-1783555199@www.bf-hydraulik.com
SUMMARY:Hydraulics Training – Fundamentals (Basic Knowledge)
DESCRIPTION:This course is ideal for anyone seeking a comprehensive overview or looking to refresh their knowledge. \nContent: \n\nUnderstanding physical principles.\nDesign and function of key hydraulic components (pressure\, flow\, and directional control valves)\nFunctional design of pumps\, motors\, and cylinders\nApplications of hydraulic fluids\nKnowledge of ISO symbols and the ability to read simple circuit diagrams\nPractical exercises / exchange of experience\n\nTarget group:\nDesigners\, engineers\, master craftsmen\, technicians\, skilled workers\, specialist teachers\, assembly\, repair\, and maintenance staff\, and anyone interested in hydraulics \nTraining duration: 3 days\nTimes: Day 1: 9:00 AM – 5:00 PM / Days 2 + 3: 8:00 AM – 4:00 PM   \nFee per participant:\n€1\,560.00 plus VAT (special offer price)\nIncluding documentation and catering  \nYou can register for the training here:
URL:https://www.bf-hydraulik.com/en/hydraulic-training/hydraulics-training-fundamentals-basic-knowledge/
LOCATION:Beckmann-Fleige Hydraulik GmbH & Co. KG\, Niggenkamp 4\, Werne\, North Rhine-Westphalia\, 59368\, Germany
CATEGORIES:Fundamentals (Basic Knowledge)
END:VEVENT
END:VCALENDAR