BEGIN:VCALENDAR
VERSION:2.0
PRODID:-//Beckmann-Fleige Hydraulik GmbH &amp; Co. KG - ECPv6.14.2//NONSGML v1.0//EN
CALSCALE:GREGORIAN
METHOD:PUBLISH
X-WR-CALNAME:Beckmann-Fleige Hydraulik GmbH &amp; Co. KG
X-ORIGINAL-URL:https://www.bf-hydraulik.com/en/
X-WR-CALDESC:Events for Beckmann-Fleige Hydraulik GmbH &amp; Co. KG
REFRESH-INTERVAL;VALUE=DURATION:PT1H
X-Robots-Tag:noindex
X-PUBLISHED-TTL:PT1H
BEGIN:VTIMEZONE
TZID:Europe/Berlin
BEGIN:DAYLIGHT
TZOFFSETFROM:+0100
TZOFFSETTO:+0200
TZNAME:CEST
DTSTART:20260329T010000
END:DAYLIGHT
BEGIN:STANDARD
TZOFFSETFROM:+0200
TZOFFSETTO:+0100
TZNAME:CET
DTSTART:20261025T010000
END:STANDARD
END:VTIMEZONE
BEGIN:VEVENT
DTSTART;VALUE=DATE:20260511
DTEND;VALUE=DATE:20260513
DTSTAMP:20260420T071814
CREATED:20240313T144729Z
LAST-MODIFIED:20240313T144729Z
UID:2677-1778457600-1778630399@www.bf-hydraulik.com
SUMMARY:Competent person in accordance with the German Industrial Safety Ordinance (BetrSichV) and DGUV Rule 113-020 + practical day
DESCRIPTION:Hydraulic hose assemblies and hydraulic fluids – rules for safe use \nBenefits of the training: Compliance with legal requirements when handling hydraulic hose assemblies and hydraulic fluids. Familiarity with the most important standards\, guidelines and requirements of the employers’ liability insurance associations. Early detection of faults\, prevention of consequential damage and avoidance of machine downtime. Possibility of being appointed as a competent person by the employer.    \nPotential participants: Persons who\, within the meaning of the German Industrial Safety Ordinance (BetrSichV) and DGUV Rule 113-020\, are to act as a competent person for the inspection of hydraulic hose assemblies. \nObjectives include preventive maintenance\, regular inspections\, accident prevention during inspections\, and the qualification to identify and remedy faults. \nContents of the hydraulic training “Competent person in accordance with BetrSichV and DGUV Rule 113-020”: \n\n\nBasic knowledge and the significance of the relevant regulations: BetrSichV\, DIN EN ISO 4413\, DIN 20066\, DGUV Rule 113-020\nHose selection\, storage and service life\, ideal storage conditions\nSelection criteria for fittings\, assembly of a hose assembly\nLabelling requirement\, labelling of hoses and hose assemblies\nAssembly methods\nSystem contamination\, possible causes and effects\nCorrect routing of a hose assembly\nPreparation of inspection documentation in accordance with BetrSichV\, TRBS and DGUV Rule 113-020\n\n\nSeminar completion:\n“Competent person in accordance with BetrSichV and DGUV Rule 113-020”.\nAfter successfully passing the test\, the participant may be appointed by their employer as a competent person in accordance with DGUV Rule 113-020. \nThe additional practical day is intended to deepen the knowledge acquired and implement it directly in practical exercises. \nTarget group:\nMaintenance personnel\, occupational safety specialists\, safety engineers\, fitters\, hydraulic service providers and planners\, as well as internal and field service staff with direct relevance to the topic. \nTraining duration: 2 days\nTimes: Day 1 09:00–17:00 / Day 2 08:00–16:00  \nFee per participant:\n€980.00 plus VAT\nIncluding materials and catering  \nYou can register for the training here:
URL:https://www.bf-hydraulik.com/en/hydraulic-training/competent-person-in-accordance-with-the-german-industrial-safety-ordinance-betrsichv-and-dguv-rule-113-020-practical-day/
LOCATION:Beckmann-Fleige Hydraulik GmbH & Co. KG\, Niggenkamp 4\, Werne\, North Rhine-Westphalia\, 59368\, Germany
CATEGORIES:Qualified Person in accordance with the German Industrial Safety Ordinance (BetrSichV) and DGUV Rule 113-020 + practical day
END:VEVENT
BEGIN:VEVENT
DTSTART;VALUE=DATE:20260423
DTEND;VALUE=DATE:20260424
DTSTAMP:20260420T071814
CREATED:20240313T145127Z
LAST-MODIFIED:20240313T145127Z
UID:2675-1776902400-1776988799@www.bf-hydraulik.com
SUMMARY:Seal Training
DESCRIPTION:Sealing technology with explanations of materials\, designations\, and their special characteristics. \nLearning objectives in seal training:\n\n\nClassification of seals\nMaterial selection\nSolution approaches for problems\nTime optimization in problem solving\nRapid identification of suitable seals\nRelationship between seal and installation space\nDesign of installation spaces\nInstallation options and aids\n\n\nTraining duration: 1 day\nTimes: 9:00 AM – 5:00 PM \nFee per participant:\n€580.00 plus VAT\nIncluding materials and catering  \nRegister for the training here:
URL:https://www.bf-hydraulik.com/en/hydraulic-training/seal-training/
LOCATION:Beckmann-Fleige Hydraulik GmbH & Co. KG\, Niggenkamp 4\, Werne\, North Rhine-Westphalia\, 59368\, Germany
CATEGORIES:Sealing Training
END:VEVENT
BEGIN:VEVENT
DTSTART;VALUE=DATE:20260420
DTEND;VALUE=DATE:20260423
DTSTAMP:20260420T071814
CREATED:20240313T143728Z
LAST-MODIFIED:20240313T143728Z
UID:2661-1776643200-1776902399@www.bf-hydraulik.com
SUMMARY:Hydraulics Training Practical Intensive Course
DESCRIPTION:For all those responsible for operating\, maintaining\, troubleshooting\, and repairing machines and equipment with hydraulic components. \nThe learning objectives in this practical intensive course: \n\n\nUnderstanding of physical principles\nStructure and function of important hydraulic components\nFunctional design of pumps\, motors\, and cylinders\nKnowledge of ISO symbols up to the ability to read simple circuit diagrams and implement them on the training unit\nHandling and adjustment of important hydraulic components\nIdentifying and eliminating disruptive influences and sources of error\nPractical exercises and procedures for troubleshooting and fault correction\n\n\nPrior participation in the “Basic and Advanced Course” is helpful and recommended by us. \nTarget audience:\nDesign engineers\, engineers\, master craftsmen\, technicians\, skilled workers\, technical instructors\, employees from assembly\, repair and maintenance\, and those interested in hydraulics. \nTraining duration: 3 days\nTimes: Day 1: 9:00 AM – 5:00 PM / Days 2 + 3: 8:00 AM – 4:00 PM   \nFee per participant:\n€1\,560.00 plus VAT\nIncluding materials and catering  \nYou can register for the training here:
URL:https://www.bf-hydraulik.com/en/hydraulic-training/hydraulics-training-practical-intensive-course/
LOCATION:Beckmann-Fleige Hydraulik GmbH & Co. KG\, Niggenkamp 4\, Werne\, North Rhine-Westphalia\, 59368\, Germany
CATEGORIES:Practical Course
END:VEVENT
BEGIN:VEVENT
DTSTART;VALUE=DATE:20260209
DTEND;VALUE=DATE:20260212
DTSTAMP:20260420T071814
CREATED:20240313T114517Z
LAST-MODIFIED:20240313T114517Z
UID:2681-1770595200-1770854399@www.bf-hydraulik.com
SUMMARY:Hydraulics Training – Fundamentals (Basic Knowledge)
DESCRIPTION:If you would like a comprehensive overview or want to refresh your knowledge\, you are in the right place. \nContents: \n\nUnderstanding of the physical principles.\nDesign and function of key hydraulic components (pressure\, flow and directional control valves)\nFunctional design of pumps\, motors and cylinders\nApplications of hydraulic fluids\nKnowledge of ISO symbols through to the ability to read simple circuit diagrams\nPractical exercises / exchange of experience\n\nTarget group:\nDesign engineers\, engineers\, foremen\, technicians\, skilled workers\, vocational teachers\, employees from assembly\, repair and maintenance\, and those interested in hydraulics \nTraining duration: 3 days\nTimes: Day 1 09:00 – 17:00 / Days 2 + 3 08:00 – 16:00   \nFee per participant:\n€1\,560.00 plus VAT (promotional price)\nIncluding course materials and catering  \nYou can register for the training here:
URL:https://www.bf-hydraulik.com/en/hydraulic-training/hydraulics-training-fundamentals-basic-knowledge-3/
LOCATION:Beckmann-Fleige Hydraulik GmbH & Co. KG\, Niggenkamp 4\, Werne\, North Rhine-Westphalia\, 59368\, Germany
CATEGORIES:Fundamentals (Basic Knowledge)
END:VEVENT
END:VCALENDAR