BEGIN:VCALENDAR
VERSION:2.0
PRODID:-//Beckmann-Fleige Hydraulik GmbH &amp; Co. KG - ECPv6.14.2//NONSGML v1.0//EN
CALSCALE:GREGORIAN
METHOD:PUBLISH
X-WR-CALNAME:Beckmann-Fleige Hydraulik GmbH &amp; Co. KG
X-ORIGINAL-URL:https://www.bf-hydraulik.com/en/
X-WR-CALDESC:Events for Beckmann-Fleige Hydraulik GmbH &amp; Co. KG
REFRESH-INTERVAL;VALUE=DURATION:PT1H
X-Robots-Tag:noindex
X-PUBLISHED-TTL:PT1H
BEGIN:VTIMEZONE
TZID:Europe/Berlin
BEGIN:DAYLIGHT
TZOFFSETFROM:+0100
TZOFFSETTO:+0200
TZNAME:CEST
DTSTART:20260329T010000
END:DAYLIGHT
BEGIN:STANDARD
TZOFFSETFROM:+0200
TZOFFSETTO:+0100
TZNAME:CET
DTSTART:20261025T010000
END:STANDARD
END:VTIMEZONE
BEGIN:VEVENT
DTSTART;VALUE=DATE:20261118
DTEND;VALUE=DATE:20261119
DTSTAMP:20260420T053941
CREATED:20251118T115614Z
LAST-MODIFIED:20251118T115614Z
UID:2674-1794960000-1795046399@www.bf-hydraulik.com
SUMMARY:Hydraulics Training: Filtration
DESCRIPTION:Preventive maintenance through oil care. \nThis training course is primarily aimed at companies interested in increasing the service life of hydraulic components\, extending oil service intervals\, protecting the environment\, reducing costs\, and reducing system downtime as well as maintenance work. \nContents: \n\nWhy is oil care so important?\nContamination in the oil\n\nTypes of contamination in the medium\nCauses of contamination\nEffects of contamination\nDetection of contamination\nMeasures in the event of contamination\n\n\nFiltration\n\nFilter design\nTypes of filtration\n\nProperties of the various filters\n\n\nDetermining the ideal system cleanliness\n\nSystem considerations\nManufacturer specifications\n\n\nEnvironmental influences\nFilter selection\n\n\nWater in the oil\n\nRelative humidity in the oil\n\n\nDetermining the oil ageing condition\nOff-line Filtration\nContinuous/recurring analysis of hydraulic systems\nBFH solutions for oil care\n\nOffline filtration\nOil analyses\nCustomer-specific solutions\n\n\n\nTarget group:\nDesign engineers\, engineers\, foremen\, technicians\, skilled workers\, vocational teachers\, employees from assembly\, repair and maintenance\, and those interested in hydraulics. \nTraining duration: 1 day\nTimes:  09:00 – 17:00 \nFee per participant:\n€580.00 plus VAT\nIncluding documentation and catering  \nYou can register for the training course here:
URL:https://www.bf-hydraulik.com/en/hydraulic-training/hydraulics-training-filtration/
LOCATION:Beckmann-Fleige Hydraulik GmbH & Co. KG\, Niggenkamp 4\, Werne\, North Rhine-Westphalia\, 59368\, Germany
CATEGORIES:Filtration
END:VEVENT
END:VCALENDAR